BEGIN:VCALENDAR
VERSION:2.0
PRODID:-//Lumberton Township - ECPv6.15.18//NONSGML v1.0//EN
CALSCALE:GREGORIAN
METHOD:PUBLISH
X-ORIGINAL-URL:https://www.lumbertontwp.com
X-WR-CALDESC:Events for Lumberton Township
REFRESH-INTERVAL;VALUE=DURATION:PT1H
X-Robots-Tag:noindex
X-PUBLISHED-TTL:PT1H
BEGIN:VTIMEZONE
TZID:America/New_York
BEGIN:DAYLIGHT
TZOFFSETFROM:-0500
TZOFFSETTO:-0400
TZNAME:EDT
DTSTART:20240310T070000
END:DAYLIGHT
BEGIN:STANDARD
TZOFFSETFROM:-0400
TZOFFSETTO:-0500
TZNAME:EST
DTSTART:20241103T060000
END:STANDARD
BEGIN:DAYLIGHT
TZOFFSETFROM:-0500
TZOFFSETTO:-0400
TZNAME:EDT
DTSTART:20250309T070000
END:DAYLIGHT
BEGIN:STANDARD
TZOFFSETFROM:-0400
TZOFFSETTO:-0500
TZNAME:EST
DTSTART:20251102T060000
END:STANDARD
BEGIN:DAYLIGHT
TZOFFSETFROM:-0500
TZOFFSETTO:-0400
TZNAME:EDT
DTSTART:20260308T070000
END:DAYLIGHT
BEGIN:STANDARD
TZOFFSETFROM:-0400
TZOFFSETTO:-0500
TZNAME:EST
DTSTART:20261101T060000
END:STANDARD
END:VTIMEZONE
BEGIN:VEVENT
DTSTART;TZID=America/New_York:20250517T090000
DTEND;TZID=America/New_York:20250517T140000
DTSTAMP:20260425T190249
CREATED:20250325T124822Z
LAST-MODIFIED:20250402T183619Z
UID:11756-1747472400-1747490400@www.lumbertontwp.com
SUMMARY:Clean Community Day
DESCRIPTION:Join us for a cleanup day in the park! Help us keep our open space beautiful and litter-free!  Cleanups will take place at Village Green and Bryan Freeman Parks.  \n  \nANY QUESTIONS OR LOOKING TO SIGN UP\, PLEASE E-MAIL DESIREE BUCK\, DEPUTY TOWNSHIP CLERK\, AT DEPUTYCLERK@LUMBERTONTWP.COM \n 
URL:https://www.lumbertontwp.com/event/clean-community-day-2/
LOCATION:Village Green Park\, Route 541 (Main Street)\, Lumberton\, NJ\, 08048\, United States
CATEGORIES:Community Event
ATTACH;FMTTYPE=application/pdf:https://www.lumbertontwp.com/wp-content/uploads/2025/03/2025-Community-Clean-Up-Day-Spring.pdf
END:VEVENT
BEGIN:VEVENT
DTSTART;VALUE=DATE:20250519
DTEND;VALUE=DATE:20250520
DTSTAMP:20260425T190249
CREATED:20250416T130100Z
LAST-MODIFIED:20250416T130323Z
UID:11946-1747612800-1747699199@www.lumbertontwp.com
SUMMARY:Summer Office Hours Begin
DESCRIPTION:
URL:https://www.lumbertontwp.com/event/summer-office-hours-begin/
CATEGORIES:Community Event,Land Development Board Meetings,Township Holidays,Township Meetings
ATTACH;FMTTYPE=image/jpeg:https://www.lumbertontwp.com/wp-content/uploads/2025/04/Summer-hours.jpg
END:VEVENT
BEGIN:VEVENT
DTSTART;TZID=America/New_York:20250526T130000
DTEND;TZID=America/New_York:20250526T150000
DTSTAMP:20260425T190249
CREATED:20250130T202447Z
LAST-MODIFIED:20250522T171139Z
UID:11609-1748264400-1748271600@www.lumbertontwp.com
SUMMARY:Memorial Day Parade
DESCRIPTION:Join us on May 26th for the Annual Memorial Day Parade on Main Street in Lumberton.  The parade will start at Bella Road and conclude with a ceremony at Village Green Park.  \nFree hot dogs\, soda and water ice will be provided to the public complimentary of the Township Commitee (while supplies last). \nMemorial Day Parade 2025
URL:https://www.lumbertontwp.com/event/memorial-day-parade/
LOCATION:Main Street Lumberton\, NJ\, Main Street\, Lumberton\, NJ\, 08048\, United States
CATEGORIES:Community Event
ATTACH;FMTTYPE=image/jpeg:https://www.lumbertontwp.com/wp-content/uploads/2025/01/Memorial-Day-Parade-2025-Final.jpg
END:VEVENT
BEGIN:VEVENT
DTSTART;TZID=America/New_York:20250530T170000
DTEND;TZID=America/New_York:20250530T200000
DTSTAMP:20260425T190249
CREATED:20250325T124241Z
LAST-MODIFIED:20250529T150421Z
UID:11750-1748624400-1748635200@www.lumbertontwp.com
SUMMARY:Food Truck Friday - CANCELLED DUE TO WEATHER
DESCRIPTION:  \nTHIS EVENT HAS BEEN CANCELLED DUE TO FORECASTED RAIN. \n  \nFood Truck Friday returns to Village Green on May 30th.  Enjoy food truck fare\, live music and an evening outdoors!  \nBring the entire family as there will be activities and entertainment for the kids.  Gary from Premier Parties will be twisting fun\, elaborate balloon creations for the kids.  There will also be sand art and glitter tattoos – all complimentary!    \nThe event will feature a beer garden to benefit the Rue Ryan Cares Foundation\, a local nonprofit based out of Lumberton. The organization raises funds to award a yearly college scholarship to a graduating senior and also collects items for a community\, holiday drive. Your support will also help those in need with items such as food\, clothing\, and hygiene products.   \nLIVE MUSIC by: The Mount Holly Three \nFabulous fare will from our Food Trucks: \nRed’s Rolling \nCousins Maine Lobster \nWholly Bowls \nDominics Tavern \nJeremiah’s \nLatin Bites \nMoocheez \nLexilicious \nBeach Shack Food Truck \nEasy Peasy Lemonade \n  \n\n\n\n	\n		\n\n			\n		\n\n		\n		\n\n			\n		\n\n		\n		\n\n			\n		\n\n		\n		\n\n			\n		\n\n		\n		\n\n			\n		\n\n		\n		\n\n			\n		\n\n		\n		\n\n			\n		\n\n		\n		\n\n			\n		\n\n		\n		\n\n			\n		\n\n		\n		\n\n			\n		\n\n		\n\n		\n	\n		[Show thumbnails]\n	\n\n\n 
URL:https://www.lumbertontwp.com/event/food-truck-friday/
LOCATION:Village Green Park\, Route 541 (Main Street)\, Lumberton\, NJ\, 08048\, United States
CATEGORIES:Community Event
ATTACH;FMTTYPE=image/png:https://www.lumbertontwp.com/wp-content/uploads/2025/03/food-truck-friday-5.30.25-.png
END:VEVENT
END:VCALENDAR