BEGIN:VCALENDAR
VERSION:2.0
PRODID:-//Lumberton Township - ECPv6.15.18//NONSGML v1.0//EN
CALSCALE:GREGORIAN
METHOD:PUBLISH
X-ORIGINAL-URL:https://www.lumbertontwp.com
X-WR-CALDESC:Events for Lumberton Township
REFRESH-INTERVAL;VALUE=DURATION:PT1H
X-Robots-Tag:noindex
X-PUBLISHED-TTL:PT1H
BEGIN:VTIMEZONE
TZID:America/New_York
BEGIN:DAYLIGHT
TZOFFSETFROM:-0500
TZOFFSETTO:-0400
TZNAME:EDT
DTSTART:20240310T070000
END:DAYLIGHT
BEGIN:STANDARD
TZOFFSETFROM:-0400
TZOFFSETTO:-0500
TZNAME:EST
DTSTART:20241103T060000
END:STANDARD
BEGIN:DAYLIGHT
TZOFFSETFROM:-0500
TZOFFSETTO:-0400
TZNAME:EDT
DTSTART:20250309T070000
END:DAYLIGHT
BEGIN:STANDARD
TZOFFSETFROM:-0400
TZOFFSETTO:-0500
TZNAME:EST
DTSTART:20251102T060000
END:STANDARD
BEGIN:DAYLIGHT
TZOFFSETFROM:-0500
TZOFFSETTO:-0400
TZNAME:EDT
DTSTART:20260308T070000
END:DAYLIGHT
BEGIN:STANDARD
TZOFFSETFROM:-0400
TZOFFSETTO:-0500
TZNAME:EST
DTSTART:20261101T060000
END:STANDARD
END:VTIMEZONE
BEGIN:VEVENT
DTSTART;TZID=America/New_York:20251205T170000
DTEND;TZID=America/New_York:20251205T193000
DTSTAMP:20260425T103838
CREATED:20250402T194004Z
LAST-MODIFIED:20251202T170632Z
UID:11891-1764954000-1764963000@www.lumbertontwp.com
SUMMARY:Holiday Tree Lighting Celebration
DESCRIPTION:Join us for the Tree Lighting Celebration as we kick off the holiday season!  Santa will arrive by firetruck at 5:30 PM.  Warm up with a complimentary hot cocoa as we light the tree for the holiday season.  Then\, celebrate with us INDOORS at the firehouse!  \nThe event will feature:  \nVisit / Photos with Santa and Ms. Claus \nBalloon Artist with amazing balloon hats and designs \nAppearances by Cindy Lou Who\, your favorite big blue dog and look out for the GRINCH!  \nFree brownies\, cookies and candy stations!  \nFree Hot Cocoa \nHoliday photo backdrops – grab a family photo for your holiday cards!   \n  \n 
URL:https://www.lumbertontwp.com/event/holiday-tree-lighting-celebration/
LOCATION:Municipal Building\, 35 Municipal Drive\, Lumberton\, NJ\, 08048\, United States
CATEGORIES:Community Event
ATTACH;FMTTYPE=image/png:https://www.lumbertontwp.com/wp-content/uploads/2025/12/Copy-of-Tree-Lighting-2025-1.png
END:VEVENT
BEGIN:VEVENT
DTSTART;TZID=America/New_York:20251206T100000
DTEND;TZID=America/New_York:20251206T130000
DTSTAMP:20260425T103838
CREATED:20250402T180434Z
LAST-MODIFIED:20251112T202700Z
UID:11879-1765015200-1765026000@www.lumbertontwp.com
SUMMARY:Rabies Clinic
DESCRIPTION:The Free Rabies Clinic will be held at the Township Building on December 6th\, 2025 from 1-3 PM. \nSpecial thanks to Peticote Veterinary Clinic for the free rabies shots to our furry friends! \n  \nRABIES 2025
URL:https://www.lumbertontwp.com/event/rabies-clinic/
LOCATION:Municipal Building\, 35 Municipal Drive\, Lumberton\, NJ\, 08048\, United States
CATEGORIES:Miscellaneous
ATTACH;FMTTYPE=image/jpeg:https://www.lumbertontwp.com/wp-content/uploads/2025/04/rabies-clinic-2025.jpg
END:VEVENT
END:VCALENDAR