BEGIN:VCALENDAR
VERSION:2.0
PRODID:-//Lumberton Township - ECPv6.15.18//NONSGML v1.0//EN
CALSCALE:GREGORIAN
METHOD:PUBLISH
X-ORIGINAL-URL:https://www.lumbertontwp.com
X-WR-CALDESC:Events for Lumberton Township
REFRESH-INTERVAL;VALUE=DURATION:PT1H
X-Robots-Tag:noindex
X-PUBLISHED-TTL:PT1H
BEGIN:VTIMEZONE
TZID:America/New_York
BEGIN:DAYLIGHT
TZOFFSETFROM:-0500
TZOFFSETTO:-0400
TZNAME:EDT
DTSTART:20240310T070000
END:DAYLIGHT
BEGIN:STANDARD
TZOFFSETFROM:-0400
TZOFFSETTO:-0500
TZNAME:EST
DTSTART:20241103T060000
END:STANDARD
BEGIN:DAYLIGHT
TZOFFSETFROM:-0500
TZOFFSETTO:-0400
TZNAME:EDT
DTSTART:20250309T070000
END:DAYLIGHT
BEGIN:STANDARD
TZOFFSETFROM:-0400
TZOFFSETTO:-0500
TZNAME:EST
DTSTART:20251102T060000
END:STANDARD
BEGIN:DAYLIGHT
TZOFFSETFROM:-0500
TZOFFSETTO:-0400
TZNAME:EDT
DTSTART:20260308T070000
END:DAYLIGHT
BEGIN:STANDARD
TZOFFSETFROM:-0400
TZOFFSETTO:-0500
TZNAME:EST
DTSTART:20261101T060000
END:STANDARD
END:VTIMEZONE
BEGIN:VEVENT
DTSTART;TZID=America/New_York:20250620T170000
DTEND;TZID=America/New_York:20250620T200000
DTSTAMP:20260425T190448
CREATED:20250325T124612Z
LAST-MODIFIED:20250529T183435Z
UID:11753-1750438800-1750449600@www.lumbertontwp.com
SUMMARY:Flip Flop Friday - Concert in The Park
DESCRIPTION:Join us for Flip Flop Friday\, as our Food Truck Friday Series continues.  This event “flips” to a new location for a large\, outdoor concert in the park.  Celebrate summer with the amazing hits of the Beach Boys and more! Sing along to all the west coast hits while you dance along with moves created by one of the greatest groups to hit musical landscape.  Lights Out brings an action-packed show\, complete with tight harmonies\, choreography\, comedy\, and audience participation!  This show will keep you captivated from beginning to end!   Bring your chairs or blanket\, grab some delicious food\, a beer from Spellbound Brewery and enjoy a fantastic evening outdoors!  Event is 5-8 PM and show will begin at 6:00. Rain date is August 22nd. \n \nThis is a Summer Celebration!  Newly added: Bike Decorating Contest. Kids and families are invited to decorate bikes\, strollers\, wagons\, etc. with a summer theme!  Prizes awarded to different age groups from 0-9 years of age. \n \n \nFood Trucks: Red’s Rolling\, Beach Shack Food Truck\, Cousins Maine Lobster\, Wholly Bowls\, Smokin Rev & Lady BBQ\, Latin Bites\, Dan’s Waffles\, Moocheez \nDrinks and other refreshments: Easy Peasy Lemonade\, Kona Ice\, and Lexilicious  \n\n\n\n	\n		\n\n			\n		\n\n		\n		\n\n			\n		\n\n		\n		\n\n			\n		\n\n		\n		\n\n			\n		\n\n		\n		\n\n			\n		\n\n		\n		\n\n			\n		\n\n		\n		\n\n			\n		\n\n		\n		\n\n			\n		\n\n		\n		\n\n			\n		\n\n		\n		\n\n			\n		\n\n		\n\n		\n	\n		[Show thumbnails]\n	\n\n\nNew – Ice Cream Emergency – come on board the bus and create an ice cream sundae!   \n  \nBalloon Art by Premier Parties
URL:https://www.lumbertontwp.com/event/flip-flop-friday-concert-in-the-park/
LOCATION:Municipal Building\, 35 Municipal Drive\, Lumberton\, NJ\, 08048\, United States
CATEGORIES:Community Event
ATTACH;FMTTYPE=image/jpeg:https://www.lumbertontwp.com/wp-content/uploads/2025/03/flyer-.jpg
END:VEVENT
END:VCALENDAR