BEGIN:VCALENDAR
VERSION:2.0
PRODID:-//Lumberton Township - ECPv6.15.18//NONSGML v1.0//EN
CALSCALE:GREGORIAN
METHOD:PUBLISH
X-ORIGINAL-URL:https://www.lumbertontwp.com
X-WR-CALDESC:Events for Lumberton Township
REFRESH-INTERVAL;VALUE=DURATION:PT1H
X-Robots-Tag:noindex
X-PUBLISHED-TTL:PT1H
BEGIN:VTIMEZONE
TZID:America/New_York
BEGIN:DAYLIGHT
TZOFFSETFROM:-0500
TZOFFSETTO:-0400
TZNAME:EDT
DTSTART:20240310T070000
END:DAYLIGHT
BEGIN:STANDARD
TZOFFSETFROM:-0400
TZOFFSETTO:-0500
TZNAME:EST
DTSTART:20241103T060000
END:STANDARD
BEGIN:DAYLIGHT
TZOFFSETFROM:-0500
TZOFFSETTO:-0400
TZNAME:EDT
DTSTART:20250309T070000
END:DAYLIGHT
BEGIN:STANDARD
TZOFFSETFROM:-0400
TZOFFSETTO:-0500
TZNAME:EST
DTSTART:20251102T060000
END:STANDARD
BEGIN:DAYLIGHT
TZOFFSETFROM:-0500
TZOFFSETTO:-0400
TZNAME:EDT
DTSTART:20260308T070000
END:DAYLIGHT
BEGIN:STANDARD
TZOFFSETFROM:-0400
TZOFFSETTO:-0500
TZNAME:EST
DTSTART:20261101T060000
END:STANDARD
END:VTIMEZONE
BEGIN:VEVENT
DTSTART;TZID=America/New_York:20250918T100000
DTEND;TZID=America/New_York:20250918T180000
DTSTAMP:20260425T151835
CREATED:20250904T174744Z
LAST-MODIFIED:20250904T175642Z
UID:12412-1758189600-1758218400@www.lumbertontwp.com
SUMMARY:Burlington County Outreach Program
DESCRIPTION:Two locations – Mount Laurel – 10 AM – 2 PM \nLumberton 3 PM – 6 PM \n  \nSee flyer for details! 
URL:https://www.lumbertontwp.com/event/burlington-county-outreach-program/
CATEGORIES:Community Event
ATTACH;FMTTYPE=image/png:https://www.lumbertontwp.com/wp-content/uploads/2025/09/Outreach-ML-and-Lumb-9-18-25_.png
END:VEVENT
BEGIN:VEVENT
DTSTART;TZID=America/New_York:20250918T193000
DTEND;TZID=America/New_York:20250918T203000
DTSTAMP:20260425T151835
CREATED:20250904T152442Z
LAST-MODIFIED:20250904T152457Z
UID:12397-1758223800-1758227400@www.lumbertontwp.com
SUMMARY:Historical Society Ice Cream Social
DESCRIPTION:Meet & Greet Ice Cream Social at the Gaun Building : (602 Main Street ). We are looking forward to welcoming new members and sharing our ideas for future events and activities.
URL:https://www.lumbertontwp.com/event/12397/
LOCATION:Main Street Lumberton\, NJ\, Main Street\, Lumberton\, NJ\, 08048\, United States
CATEGORIES:Community Event
END:VEVENT
END:VCALENDAR