BEGIN:VCALENDAR
VERSION:2.0
PRODID:-//Lumberton Township - ECPv6.15.18//NONSGML v1.0//EN
CALSCALE:GREGORIAN
METHOD:PUBLISH
X-ORIGINAL-URL:https://www.lumbertontwp.com
X-WR-CALDESC:Events for Lumberton Township
REFRESH-INTERVAL;VALUE=DURATION:PT1H
X-Robots-Tag:noindex
X-PUBLISHED-TTL:PT1H
BEGIN:VTIMEZONE
TZID:America/New_York
BEGIN:DAYLIGHT
TZOFFSETFROM:-0500
TZOFFSETTO:-0400
TZNAME:EDT
DTSTART:20240310T070000
END:DAYLIGHT
BEGIN:STANDARD
TZOFFSETFROM:-0400
TZOFFSETTO:-0500
TZNAME:EST
DTSTART:20241103T060000
END:STANDARD
BEGIN:DAYLIGHT
TZOFFSETFROM:-0500
TZOFFSETTO:-0400
TZNAME:EDT
DTSTART:20250309T070000
END:DAYLIGHT
BEGIN:STANDARD
TZOFFSETFROM:-0400
TZOFFSETTO:-0500
TZNAME:EST
DTSTART:20251102T060000
END:STANDARD
BEGIN:DAYLIGHT
TZOFFSETFROM:-0500
TZOFFSETTO:-0400
TZNAME:EDT
DTSTART:20260308T070000
END:DAYLIGHT
BEGIN:STANDARD
TZOFFSETFROM:-0400
TZOFFSETTO:-0500
TZNAME:EST
DTSTART:20261101T060000
END:STANDARD
END:VTIMEZONE
BEGIN:VEVENT
DTSTART;VALUE=DATE:20250430
DTEND;VALUE=DATE:20250501
DTSTAMP:20260425T092054
CREATED:20250403T133227Z
LAST-MODIFIED:20250403T133239Z
UID:11898-1745971200-1746057599@www.lumbertontwp.com
SUMMARY:Real ID returns to Lumberton
DESCRIPTION:MVC is returning to Lumberton Township on April 30th.   \n\n\nYou are not required to get a REAL ID; however\, starting May 7\, 2025\, if you typically use your driver license or non-driver ID (instead of a passport or other form of ID) to fly within the U.S.\, you probably want a REAL ID. Otherwise you will need to use a valid U.S. passport or another federally approved form of identification. The Standard New Jersey driver license can still be used for driving. \nAppointments for Lumberton are currently full for this date.  However\, if you are due for renewal within 90 days of this event\, you can sign up for a renewal to receive Real ID at this location.   \n\n\n\n\n \n\n\n \nAppointments will be open beginning March 27th after 3 PM.   \nWhat do I need to bring with me?
URL:https://www.lumbertontwp.com/event/real-id-returns-to-lumberton/
LOCATION:Municipal Building\, 35 Municipal Drive\, Lumberton\, NJ\, 08048\, United States
CATEGORIES:Miscellaneous
END:VEVENT
BEGIN:VEVENT
DTSTART;TZID=America/New_York:20250410T180000
DTEND;TZID=America/New_York:20250410T193000
DTSTAMP:20260425T092054
CREATED:20250325T123327Z
LAST-MODIFIED:20250402T184429Z
UID:11746-1744308000-1744313400@www.lumbertontwp.com
SUMMARY:Spring Eggstravaganza
DESCRIPTION:  \nJoin us once again for the Annual Eggstravaganza featuring egg hunts for kids of all ages! Who will be our Lucky Ducks this year? Each age group will have a Lucky Duck hidden inside an egg! \nEach age group will search for eggs at different times\, but the egg hunting will begin at 6:15.  Don’t miss it!  Bring a bag or basket! \nFind the Lucky Duck and win a special prize! 
URL:https://www.lumbertontwp.com/event/spring-eggstravaganza/
LOCATION:Municipal Building\, 35 Municipal Drive\, Lumberton\, NJ\, 08048\, United States
CATEGORIES:Community Event
ATTACH;FMTTYPE=image/png:https://www.lumbertontwp.com/wp-content/uploads/2025/02/egg-hunt-2025.png
END:VEVENT
END:VCALENDAR