BEGIN:VCALENDAR
VERSION:2.0
PRODID:-//Lumberton Township - ECPv6.15.18//NONSGML v1.0//EN
CALSCALE:GREGORIAN
METHOD:PUBLISH
X-ORIGINAL-URL:https://www.lumbertontwp.com
X-WR-CALDESC:Events for Lumberton Township
REFRESH-INTERVAL;VALUE=DURATION:PT1H
X-Robots-Tag:noindex
X-PUBLISHED-TTL:PT1H
BEGIN:VTIMEZONE
TZID:America/New_York
BEGIN:DAYLIGHT
TZOFFSETFROM:-0500
TZOFFSETTO:-0400
TZNAME:EDT
DTSTART:20240310T070000
END:DAYLIGHT
BEGIN:STANDARD
TZOFFSETFROM:-0400
TZOFFSETTO:-0500
TZNAME:EST
DTSTART:20241103T060000
END:STANDARD
BEGIN:DAYLIGHT
TZOFFSETFROM:-0500
TZOFFSETTO:-0400
TZNAME:EDT
DTSTART:20250309T070000
END:DAYLIGHT
BEGIN:STANDARD
TZOFFSETFROM:-0400
TZOFFSETTO:-0500
TZNAME:EST
DTSTART:20251102T060000
END:STANDARD
BEGIN:DAYLIGHT
TZOFFSETFROM:-0500
TZOFFSETTO:-0400
TZNAME:EDT
DTSTART:20260308T070000
END:DAYLIGHT
BEGIN:STANDARD
TZOFFSETFROM:-0400
TZOFFSETTO:-0500
TZNAME:EST
DTSTART:20261101T060000
END:STANDARD
END:VTIMEZONE
BEGIN:VEVENT
DTSTART;VALUE=DATE:20250606
DTEND;VALUE=DATE:20250607
DTSTAMP:20260425T104015
CREATED:20250430T194710Z
LAST-MODIFIED:20250430T194710Z
UID:11994-1749168000-1749254399@www.lumbertontwp.com
SUMMARY:Offices Closed - Summer Hours
DESCRIPTION:
URL:https://www.lumbertontwp.com/event/offices-closed-summer-hours-2/
LOCATION:Municipal Building\, 35 Municipal Drive\, Lumberton\, NJ\, 08048\, United States
CATEGORIES:Offices Closed Summer Hours
ATTACH;FMTTYPE=image/jpeg:https://www.lumbertontwp.com/wp-content/uploads/2025/04/Summer-hours.jpg
END:VEVENT
BEGIN:VEVENT
DTSTART;VALUE=DATE:20250613
DTEND;VALUE=DATE:20250614
DTSTAMP:20260425T104015
CREATED:20250430T195750Z
LAST-MODIFIED:20250430T195903Z
UID:11996-1749772800-1749859199@www.lumbertontwp.com
SUMMARY:Offices Closed - Summer Hours
DESCRIPTION:
URL:https://www.lumbertontwp.com/event/offices-closed-summer-hours-3/
LOCATION:Municipal Building\, 35 Municipal Drive\, Lumberton\, NJ\, 08048\, United States
CATEGORIES:Offices Closed Summer Hours
ATTACH;FMTTYPE=image/jpeg:https://www.lumbertontwp.com/wp-content/uploads/2025/04/Summer-hours.jpg
END:VEVENT
BEGIN:VEVENT
DTSTART;VALUE=DATE:20250620
DTEND;VALUE=DATE:20250621
DTSTAMP:20260425T104015
CREATED:20250430T195933Z
LAST-MODIFIED:20250430T195933Z
UID:11998-1750377600-1750463999@www.lumbertontwp.com
SUMMARY:Offices Closed - Summer Hours
DESCRIPTION:
URL:https://www.lumbertontwp.com/event/offices-closed-summer-hours-4/
LOCATION:Municipal Building\, 35 Municipal Drive\, Lumberton\, NJ\, 08048\, United States
CATEGORIES:Offices Closed Summer Hours
ATTACH;FMTTYPE=image/jpeg:https://www.lumbertontwp.com/wp-content/uploads/2025/04/Summer-hours.jpg
END:VEVENT
BEGIN:VEVENT
DTSTART;VALUE=DATE:20250623
DTEND;VALUE=DATE:20250624
DTSTAMP:20260425T104015
CREATED:20250325T144925Z
LAST-MODIFIED:20250325T144925Z
UID:11822-1750636800-1750723199@www.lumbertontwp.com
SUMMARY:Juneteenth (Observed)
DESCRIPTION:Offices Closed
URL:https://www.lumbertontwp.com/event/juneteenth-observed/
CATEGORIES:Township Holidays
END:VEVENT
BEGIN:VEVENT
DTSTART;VALUE=DATE:20250627
DTEND;VALUE=DATE:20250628
DTSTAMP:20260425T104015
CREATED:20250430T200039Z
LAST-MODIFIED:20250501T121325Z
UID:12002-1750982400-1751068799@www.lumbertontwp.com
SUMMARY:Offices Closed - Summer Hours
DESCRIPTION:
URL:https://www.lumbertontwp.com/event/offices-closed-summer-hours-5/
LOCATION:Municipal Building\, 35 Municipal Drive\, Lumberton\, NJ\, 08048\, United States
CATEGORIES:Offices Closed Summer Hours
ATTACH;FMTTYPE=image/jpeg:https://www.lumbertontwp.com/wp-content/uploads/2025/04/Summer-hours.jpg
END:VEVENT
END:VCALENDAR