BEGIN:VCALENDAR
VERSION:2.0
PRODID:-//Lumberton Township - ECPv6.15.18//NONSGML v1.0//EN
CALSCALE:GREGORIAN
METHOD:PUBLISH
X-ORIGINAL-URL:https://www.lumbertontwp.com
X-WR-CALDESC:Events for Lumberton Township
REFRESH-INTERVAL;VALUE=DURATION:PT1H
X-Robots-Tag:noindex
X-PUBLISHED-TTL:PT1H
BEGIN:VTIMEZONE
TZID:America/New_York
BEGIN:DAYLIGHT
TZOFFSETFROM:-0500
TZOFFSETTO:-0400
TZNAME:EDT
DTSTART:20240310T070000
END:DAYLIGHT
BEGIN:STANDARD
TZOFFSETFROM:-0400
TZOFFSETTO:-0500
TZNAME:EST
DTSTART:20241103T060000
END:STANDARD
BEGIN:DAYLIGHT
TZOFFSETFROM:-0500
TZOFFSETTO:-0400
TZNAME:EDT
DTSTART:20250309T070000
END:DAYLIGHT
BEGIN:STANDARD
TZOFFSETFROM:-0400
TZOFFSETTO:-0500
TZNAME:EST
DTSTART:20251102T060000
END:STANDARD
BEGIN:DAYLIGHT
TZOFFSETFROM:-0500
TZOFFSETTO:-0400
TZNAME:EDT
DTSTART:20260308T070000
END:DAYLIGHT
BEGIN:STANDARD
TZOFFSETFROM:-0400
TZOFFSETTO:-0500
TZNAME:EST
DTSTART:20261101T060000
END:STANDARD
END:VTIMEZONE
BEGIN:VEVENT
DTSTART;VALUE=DATE:20250901
DTEND;VALUE=DATE:20250902
DTSTAMP:20260425T081430
CREATED:20250827T190539Z
LAST-MODIFIED:20250827T190947Z
UID:12375-1756684800-1756771199@www.lumbertontwp.com
SUMMARY:Labor Day - Offices Closed
DESCRIPTION:Attention Residents: \nThe Township Municipal Building will be closed on Monday\, September 1st for the Labor Day Holiday.  Offices will reopen at 8 AM on Tuesday\, September 2nd.   \nPlease note – Starting Tuesday\, September 2\, the Township will return to its regular operating hours of Monday-Friday\, 8 AM to 4 PM\, marking the end of the summer schedule.  
URL:https://www.lumbertontwp.com/event/labor-day-offices-closed/
CATEGORIES:Township Holidays
END:VEVENT
END:VCALENDAR