BEGIN:VCALENDAR
VERSION:2.0
PRODID:-//Lumberton Township - ECPv6.15.18//NONSGML v1.0//EN
CALSCALE:GREGORIAN
METHOD:PUBLISH
X-ORIGINAL-URL:https://www.lumbertontwp.com
X-WR-CALDESC:Events for Lumberton Township
REFRESH-INTERVAL;VALUE=DURATION:PT1H
X-Robots-Tag:noindex
X-PUBLISHED-TTL:PT1H
BEGIN:VTIMEZONE
TZID:America/New_York
BEGIN:DAYLIGHT
TZOFFSETFROM:-0500
TZOFFSETTO:-0400
TZNAME:EDT
DTSTART:20240310T070000
END:DAYLIGHT
BEGIN:STANDARD
TZOFFSETFROM:-0400
TZOFFSETTO:-0500
TZNAME:EST
DTSTART:20241103T060000
END:STANDARD
BEGIN:DAYLIGHT
TZOFFSETFROM:-0500
TZOFFSETTO:-0400
TZNAME:EDT
DTSTART:20250309T070000
END:DAYLIGHT
BEGIN:STANDARD
TZOFFSETFROM:-0400
TZOFFSETTO:-0500
TZNAME:EST
DTSTART:20251102T060000
END:STANDARD
BEGIN:DAYLIGHT
TZOFFSETFROM:-0500
TZOFFSETTO:-0400
TZNAME:EDT
DTSTART:20260308T070000
END:DAYLIGHT
BEGIN:STANDARD
TZOFFSETFROM:-0400
TZOFFSETTO:-0500
TZNAME:EST
DTSTART:20261101T060000
END:STANDARD
BEGIN:DAYLIGHT
TZOFFSETFROM:-0500
TZOFFSETTO:-0400
TZNAME:EDT
DTSTART:20270314T070000
END:DAYLIGHT
BEGIN:STANDARD
TZOFFSETFROM:-0400
TZOFFSETTO:-0500
TZNAME:EST
DTSTART:20271107T060000
END:STANDARD
END:VTIMEZONE
BEGIN:VEVENT
DTSTART;VALUE=DATE:20250725
DTEND;VALUE=DATE:20250726
DTSTAMP:20260425T125937
CREATED:20250501T121653Z
LAST-MODIFIED:20250501T121951Z
UID:12011-1753401600-1753487999@www.lumbertontwp.com
SUMMARY:Offices Closed - Summer Hours
DESCRIPTION:
URL:https://www.lumbertontwp.com/event/offices-closed-summer-hours-9/
LOCATION:Municipal Building\, 35 Municipal Drive\, Lumberton\, NJ\, 08048\, United States
CATEGORIES:Offices Closed Summer Hours
ATTACH;FMTTYPE=image/jpeg:https://www.lumbertontwp.com/wp-content/uploads/2025/04/Summer-hours.jpg
END:VEVENT
BEGIN:VEVENT
DTSTART;VALUE=DATE:20250801
DTEND;VALUE=DATE:20250802
DTSTAMP:20260425T125937
CREATED:20250501T122034Z
LAST-MODIFIED:20250501T122034Z
UID:12013-1754006400-1754092799@www.lumbertontwp.com
SUMMARY:Offices Closed - Summer Hours
DESCRIPTION:
URL:https://www.lumbertontwp.com/event/offices-closed-summer-hours-10/
LOCATION:Municipal Building\, 35 Municipal Drive\, Lumberton\, NJ\, 08048\, United States
CATEGORIES:Offices Closed Summer Hours
ATTACH;FMTTYPE=image/jpeg:https://www.lumbertontwp.com/wp-content/uploads/2025/04/Summer-hours.jpg
END:VEVENT
BEGIN:VEVENT
DTSTART;VALUE=DATE:20250808
DTEND;VALUE=DATE:20250809
DTSTAMP:20260425T125937
CREATED:20250501T122117Z
LAST-MODIFIED:20250501T122117Z
UID:12015-1754611200-1754697599@www.lumbertontwp.com
SUMMARY:Offices Closed - Summer Hours
DESCRIPTION:
URL:https://www.lumbertontwp.com/event/offices-closed-summer-hours-11/
LOCATION:Municipal Building\, 35 Municipal Drive\, Lumberton\, NJ\, 08048\, United States
CATEGORIES:Offices Closed Summer Hours
ATTACH;FMTTYPE=image/jpeg:https://www.lumbertontwp.com/wp-content/uploads/2025/04/Summer-hours.jpg
END:VEVENT
BEGIN:VEVENT
DTSTART;VALUE=DATE:20250815
DTEND;VALUE=DATE:20250816
DTSTAMP:20260425T125937
CREATED:20250501T122158Z
LAST-MODIFIED:20250501T122158Z
UID:12017-1755216000-1755302399@www.lumbertontwp.com
SUMMARY:Offices Closed - Summer Hours
DESCRIPTION:
URL:https://www.lumbertontwp.com/event/offices-closed-summer-hours-12/
LOCATION:Municipal Building\, 35 Municipal Drive\, Lumberton\, NJ\, 08048\, United States
CATEGORIES:Offices Closed Summer Hours
ATTACH;FMTTYPE=image/jpeg:https://www.lumbertontwp.com/wp-content/uploads/2025/04/Summer-hours.jpg
END:VEVENT
BEGIN:VEVENT
DTSTART;VALUE=DATE:20250822
DTEND;VALUE=DATE:20250823
DTSTAMP:20260425T125937
CREATED:20250501T122233Z
LAST-MODIFIED:20250501T122233Z
UID:12019-1755820800-1755907199@www.lumbertontwp.com
SUMMARY:Offices Closed - Summer Hours
DESCRIPTION:
URL:https://www.lumbertontwp.com/event/offices-closed-summer-hours-13/
LOCATION:Municipal Building\, 35 Municipal Drive\, Lumberton\, NJ\, 08048\, United States
CATEGORIES:Offices Closed Summer Hours
ATTACH;FMTTYPE=image/jpeg:https://www.lumbertontwp.com/wp-content/uploads/2025/04/Summer-hours.jpg
END:VEVENT
BEGIN:VEVENT
DTSTART;VALUE=DATE:20250829
DTEND;VALUE=DATE:20250830
DTSTAMP:20260425T125937
CREATED:20250501T122305Z
LAST-MODIFIED:20250501T122305Z
UID:12021-1756425600-1756511999@www.lumbertontwp.com
SUMMARY:Offices Closed - Summer Hours
DESCRIPTION:
URL:https://www.lumbertontwp.com/event/offices-closed-summer-hours-14/
LOCATION:Municipal Building\, 35 Municipal Drive\, Lumberton\, NJ\, 08048\, United States
CATEGORIES:Offices Closed Summer Hours
ATTACH;FMTTYPE=image/jpeg:https://www.lumbertontwp.com/wp-content/uploads/2025/04/Summer-hours.jpg
END:VEVENT
BEGIN:VEVENT
DTSTART;VALUE=DATE:20250901
DTEND;VALUE=DATE:20250902
DTSTAMP:20260425T125937
CREATED:20250827T190539Z
LAST-MODIFIED:20250827T190947Z
UID:12375-1756684800-1756771199@www.lumbertontwp.com
SUMMARY:Labor Day - Offices Closed
DESCRIPTION:Attention Residents: \nThe Township Municipal Building will be closed on Monday\, September 1st for the Labor Day Holiday.  Offices will reopen at 8 AM on Tuesday\, September 2nd.   \nPlease note – Starting Tuesday\, September 2\, the Township will return to its regular operating hours of Monday-Friday\, 8 AM to 4 PM\, marking the end of the summer schedule.  
URL:https://www.lumbertontwp.com/event/labor-day-offices-closed/
LOCATION:NJ
CATEGORIES:Township Holidays
END:VEVENT
BEGIN:VEVENT
DTSTART;VALUE=DATE:20251013
DTEND;VALUE=DATE:20251014
DTSTAMP:20260425T125937
CREATED:20250325T145059Z
LAST-MODIFIED:20250325T145059Z
UID:11828-1760313600-1760399999@www.lumbertontwp.com
SUMMARY:Columbus Day
DESCRIPTION:Offices Closed
URL:https://www.lumbertontwp.com/event/columbus-day/
LOCATION:NJ
CATEGORIES:Township Holidays
END:VEVENT
BEGIN:VEVENT
DTSTART;VALUE=DATE:20251114
DTEND;VALUE=DATE:20251115
DTSTAMP:20260425T125937
CREATED:20250325T145133Z
LAST-MODIFIED:20251007T194345Z
UID:11830-1763078400-1763164799@www.lumbertontwp.com
SUMMARY:Veterans Day - Observed
DESCRIPTION:Offices Closed
URL:https://www.lumbertontwp.com/event/veterans-day/
LOCATION:NJ
CATEGORIES:Township Holidays
END:VEVENT
BEGIN:VEVENT
DTSTART;VALUE=DATE:20251127
DTEND;VALUE=DATE:20251129
DTSTAMP:20260425T125937
CREATED:20250325T145210Z
LAST-MODIFIED:20250325T145210Z
UID:11832-1764201600-1764374399@www.lumbertontwp.com
SUMMARY:Thanksgiving Holiday
DESCRIPTION:Offices Closed
URL:https://www.lumbertontwp.com/event/thanksgiving-holiday/
LOCATION:NJ
CATEGORIES:Township Holidays
END:VEVENT
BEGIN:VEVENT
DTSTART;VALUE=DATE:20251224
DTEND;VALUE=DATE:20251225
DTSTAMP:20260425T125937
CREATED:20250325T145234Z
LAST-MODIFIED:20250325T145234Z
UID:11834-1766534400-1766620799@www.lumbertontwp.com
SUMMARY:Christmas Eve
DESCRIPTION:Offices Closed
URL:https://www.lumbertontwp.com/event/christmas-eve/
LOCATION:NJ
CATEGORIES:Township Holidays
END:VEVENT
BEGIN:VEVENT
DTSTART;VALUE=DATE:20251225
DTEND;VALUE=DATE:20251226
DTSTAMP:20260425T125937
CREATED:20250325T145303Z
LAST-MODIFIED:20250325T145303Z
UID:11836-1766620800-1766707199@www.lumbertontwp.com
SUMMARY:Christmas Day
DESCRIPTION:Offices Closed
URL:https://www.lumbertontwp.com/event/christmas-day/
LOCATION:NJ
CATEGORIES:Township Holidays
END:VEVENT
BEGIN:VEVENT
DTSTART;VALUE=DATE:20251231
DTEND;VALUE=DATE:20260101
DTSTAMP:20260425T125937
CREATED:20250325T145334Z
LAST-MODIFIED:20250325T145334Z
UID:11838-1767139200-1767225599@www.lumbertontwp.com
SUMMARY:New Years Eve
DESCRIPTION:Offices Closed
URL:https://www.lumbertontwp.com/event/new-years-eve/
LOCATION:NJ
CATEGORIES:Township Holidays
END:VEVENT
BEGIN:VEVENT
DTSTART;VALUE=DATE:20261111
DTEND;VALUE=DATE:20261112
DTSTAMP:20260425T125937
CREATED:20260204T161950Z
LAST-MODIFIED:20260204T161950Z
UID:12813-1794355200-1794441599@www.lumbertontwp.com
SUMMARY:VETERANS DAY - OFFICES CLOSED
DESCRIPTION:
URL:https://www.lumbertontwp.com/event/veterans-day-offices-closed/
LOCATION:NJ
CATEGORIES:Township Holidays
END:VEVENT
END:VCALENDAR