BEGIN:VCALENDAR
VERSION:2.0
PRODID:-//Lumberton Township - ECPv6.15.18//NONSGML v1.0//EN
CALSCALE:GREGORIAN
METHOD:PUBLISH
X-ORIGINAL-URL:https://www.lumbertontwp.com
X-WR-CALDESC:Events for Lumberton Township
REFRESH-INTERVAL;VALUE=DURATION:PT1H
X-Robots-Tag:noindex
X-PUBLISHED-TTL:PT1H
BEGIN:VTIMEZONE
TZID:America/New_York
BEGIN:DAYLIGHT
TZOFFSETFROM:-0500
TZOFFSETTO:-0400
TZNAME:EDT
DTSTART:20240310T070000
END:DAYLIGHT
BEGIN:STANDARD
TZOFFSETFROM:-0400
TZOFFSETTO:-0500
TZNAME:EST
DTSTART:20241103T060000
END:STANDARD
BEGIN:DAYLIGHT
TZOFFSETFROM:-0500
TZOFFSETTO:-0400
TZNAME:EDT
DTSTART:20250309T070000
END:DAYLIGHT
BEGIN:STANDARD
TZOFFSETFROM:-0400
TZOFFSETTO:-0500
TZNAME:EST
DTSTART:20251102T060000
END:STANDARD
BEGIN:DAYLIGHT
TZOFFSETFROM:-0500
TZOFFSETTO:-0400
TZNAME:EDT
DTSTART:20260308T070000
END:DAYLIGHT
BEGIN:STANDARD
TZOFFSETFROM:-0400
TZOFFSETTO:-0500
TZNAME:EST
DTSTART:20261101T060000
END:STANDARD
END:VTIMEZONE
BEGIN:VEVENT
DTSTART;TZID=America/New_York:20251218T190000
DTEND;TZID=America/New_York:20251218T200000
DTSTAMP:20260425T064606
CREATED:20250325T142939Z
LAST-MODIFIED:20251110T160111Z
UID:11798-1766084400-1766088000@www.lumbertontwp.com
SUMMARY:Township Committee Meeting - CANCELLED
DESCRIPTION:Public Meeting in the Municipal Court Room at 7 PM. – MEETING CANCELLED.
URL:https://www.lumbertontwp.com/event/township-committee-meeting-14/
LOCATION:Municipal Building\, 35 Municipal Drive\, Lumberton\, NJ\, 08048\, United States
CATEGORIES:Township Meetings
END:VEVENT
BEGIN:VEVENT
DTSTART;TZID=America/New_York:20251204T190000
DTEND;TZID=America/New_York:20251204T200000
DTSTAMP:20260425T064606
CREATED:20250325T142907Z
LAST-MODIFIED:20250325T142907Z
UID:11796-1764874800-1764878400@www.lumbertontwp.com
SUMMARY:Township Committee Meeting
DESCRIPTION:Public Meeting in the Municipal Court Room at 7 PM.
URL:https://www.lumbertontwp.com/event/township-committee-meeting-13/
LOCATION:Municipal Building\, 35 Municipal Drive\, Lumberton\, NJ\, 08048\, United States
CATEGORIES:Township Meetings
END:VEVENT
BEGIN:VEVENT
DTSTART;TZID=America/New_York:20251106T190000
DTEND;TZID=America/New_York:20251106T200000
DTSTAMP:20260425T064606
CREATED:20250325T142841Z
LAST-MODIFIED:20250325T142841Z
UID:11794-1762455600-1762459200@www.lumbertontwp.com
SUMMARY:Township Committee Meeting
DESCRIPTION:Public Meeting in the Municipal Court Room at 7 PM.
URL:https://www.lumbertontwp.com/event/township-committee-meeting-12/
LOCATION:Municipal Building\, 35 Municipal Drive\, Lumberton\, NJ\, 08048\, United States
CATEGORIES:Township Meetings
END:VEVENT
BEGIN:VEVENT
DTSTART;TZID=America/New_York:20251016T190000
DTEND;TZID=America/New_York:20251016T200000
DTSTAMP:20260425T064606
CREATED:20250325T131105Z
LAST-MODIFIED:20250325T131105Z
UID:11782-1760641200-1760644800@www.lumbertontwp.com
SUMMARY:Township Committee Meeting
DESCRIPTION:Public Meeting in the Municipal Court Room at 7 PM.
URL:https://www.lumbertontwp.com/event/township-committee-meeting-11/
LOCATION:Municipal Building\, 35 Municipal Drive\, Lumberton\, NJ\, 08048\, United States
CATEGORIES:Township Meetings
END:VEVENT
BEGIN:VEVENT
DTSTART;TZID=America/New_York:20251002T190000
DTEND;TZID=America/New_York:20251002T200000
DTSTAMP:20260425T064606
CREATED:20250325T131038Z
LAST-MODIFIED:20250924T181044Z
UID:11780-1759431600-1759435200@www.lumbertontwp.com
SUMMARY:Township Committee Meeting - CANCELLED
DESCRIPTION:Public Meeting in the Municipal Court Room at 7 PM. \n  \nMEETING IS CANCELLED.
URL:https://www.lumbertontwp.com/event/township-committee-meeting-10/
LOCATION:Municipal Building\, 35 Municipal Drive\, Lumberton\, NJ\, 08048\, United States
CATEGORIES:Township Meetings
END:VEVENT
BEGIN:VEVENT
DTSTART;TZID=America/New_York:20250918T190000
DTEND;TZID=America/New_York:20250918T200000
DTSTAMP:20260425T064606
CREATED:20250325T130900Z
LAST-MODIFIED:20250325T131014Z
UID:11778-1758222000-1758225600@www.lumbertontwp.com
SUMMARY:Township Committee Meeting
DESCRIPTION:Public Meeting in the Municipal Court Room at 7 PM.
URL:https://www.lumbertontwp.com/event/township-committee-meeting-9/
LOCATION:Municipal Building\, 35 Municipal Drive\, Lumberton\, NJ\, 08048\, United States
CATEGORIES:Township Meetings
END:VEVENT
BEGIN:VEVENT
DTSTART;TZID=America/New_York:20250904T190000
DTEND;TZID=America/New_York:20250904T200000
DTSTAMP:20260425T064606
CREATED:20250325T130836Z
LAST-MODIFIED:20250325T130836Z
UID:11776-1757012400-1757016000@www.lumbertontwp.com
SUMMARY:Township Committee Meeting
DESCRIPTION:Public Meeting in the Municipal Court Room at 7 PM.
URL:https://www.lumbertontwp.com/event/township-committee-meeting-8/
LOCATION:Municipal Building\, 35 Municipal Drive\, Lumberton\, NJ\, 08048\, United States
CATEGORIES:Township Meetings
END:VEVENT
BEGIN:VEVENT
DTSTART;TZID=America/New_York:20250807T190000
DTEND;TZID=America/New_York:20250807T200000
DTSTAMP:20260425T064606
CREATED:20250325T130426Z
LAST-MODIFIED:20250325T130801Z
UID:11774-1754593200-1754596800@www.lumbertontwp.com
SUMMARY:Township Committee Meeting
DESCRIPTION:Public Meeting in the Municipal Court Room at 7 PM.
URL:https://www.lumbertontwp.com/event/township-committee-meeting-7/
LOCATION:Municipal Building\, 35 Municipal Drive\, Lumberton\, NJ\, 08048\, United States
CATEGORIES:Township Meetings
END:VEVENT
BEGIN:VEVENT
DTSTART;TZID=America/New_York:20250710T190000
DTEND;TZID=America/New_York:20250710T200000
DTSTAMP:20260425T064606
CREATED:20250325T130357Z
LAST-MODIFIED:20250325T130357Z
UID:11772-1752174000-1752177600@www.lumbertontwp.com
SUMMARY:Township Committee Meeting
DESCRIPTION:Public Meeting in the Municipal Court Room at 7 PM.
URL:https://www.lumbertontwp.com/event/township-committee-meeting-6/
LOCATION:Municipal Building\, 35 Municipal Drive\, Lumberton\, NJ\, 08048\, United States
CATEGORIES:Township Meetings
END:VEVENT
BEGIN:VEVENT
DTSTART;TZID=America/New_York:20250619T190000
DTEND;TZID=America/New_York:20250619T200000
DTSTAMP:20260425T064606
CREATED:20250505T151302Z
LAST-MODIFIED:20250505T162049Z
UID:12067-1750359600-1750363200@www.lumbertontwp.com
SUMMARY:Township Committee Meeting
DESCRIPTION:Public Meeting in the Municipal Court Room at 7 PM.
URL:https://www.lumbertontwp.com/event/township-committee-meeting-rescheduled/
LOCATION:Municipal Building\, 35 Municipal Drive\, Lumberton\, NJ\, 08048\, United States
CATEGORIES:Township Meetings
ATTACH;FMTTYPE=image/jpeg:https://www.lumbertontwp.com/wp-content/uploads/2025/03/June-Committee-Meeting-rescheduled.jpg
END:VEVENT
BEGIN:VEVENT
DTSTART;TZID=America/New_York:20250605T190000
DTEND;TZID=America/New_York:20250605T200000
DTSTAMP:20260425T064606
CREATED:20250325T130326Z
LAST-MODIFIED:20250505T151127Z
UID:11770-1749150000-1749153600@www.lumbertontwp.com
SUMMARY:Township Committee Meeting - RESCHEDULED
DESCRIPTION:Public Meeting in the Municipal Court Room at 7 PM.
URL:https://www.lumbertontwp.com/event/township-committee-meeting-5/
LOCATION:Municipal Building\, 35 Municipal Drive\, Lumberton\, NJ\, 08048\, United States
CATEGORIES:Township Meetings
ATTACH;FMTTYPE=image/jpeg:https://www.lumbertontwp.com/wp-content/uploads/2025/03/June-Committee-Meeting-rescheduled.jpg
END:VEVENT
BEGIN:VEVENT
DTSTART;VALUE=DATE:20250519
DTEND;VALUE=DATE:20250520
DTSTAMP:20260425T064606
CREATED:20250416T130100Z
LAST-MODIFIED:20250416T130323Z
UID:11946-1747612800-1747699199@www.lumbertontwp.com
SUMMARY:Summer Office Hours Begin
DESCRIPTION:
URL:https://www.lumbertontwp.com/event/summer-office-hours-begin/
LOCATION:NJ
CATEGORIES:Community Event,Land Development Board Meetings,Township Holidays,Township Meetings
ATTACH;FMTTYPE=image/jpeg:https://www.lumbertontwp.com/wp-content/uploads/2025/04/Summer-hours.jpg
END:VEVENT
BEGIN:VEVENT
DTSTART;TZID=America/New_York:20250515T190000
DTEND;TZID=America/New_York:20250515T200000
DTSTAMP:20260425T064606
CREATED:20250325T130248Z
LAST-MODIFIED:20250325T130248Z
UID:11768-1747335600-1747339200@www.lumbertontwp.com
SUMMARY:Township Committee Meeting
DESCRIPTION:Public Meeting in the Municipal Court Room at 7 PM.
URL:https://www.lumbertontwp.com/event/township-committee-meeting-4/
LOCATION:Municipal Building\, 35 Municipal Drive\, Lumberton\, NJ\, 08048\, United States
CATEGORIES:Township Meetings
END:VEVENT
BEGIN:VEVENT
DTSTART;TZID=America/New_York:20250501T190000
DTEND;TZID=America/New_York:20250501T200000
DTSTAMP:20260425T064606
CREATED:20250325T130220Z
LAST-MODIFIED:20250501T195204Z
UID:11766-1746126000-1746129600@www.lumbertontwp.com
SUMMARY:Township Committee Meeting
DESCRIPTION:Public Meeting in the Municipal Court Room at 7 PM. \n  \n 
URL:https://www.lumbertontwp.com/event/township-committee-meeting-3/
LOCATION:Municipal Building\, 35 Municipal Drive\, Lumberton\, NJ\, 08048\, United States
CATEGORIES:Township Meetings
END:VEVENT
BEGIN:VEVENT
DTSTART;TZID=America/New_York:20250417T190000
DTEND;TZID=America/New_York:20250417T200000
DTSTAMP:20260425T064606
CREATED:20250325T130152Z
LAST-MODIFIED:20250414T182432Z
UID:11764-1744916400-1744920000@www.lumbertontwp.com
SUMMARY:Township Committee Meeting - Canceled
DESCRIPTION:Meeting has been cancelled.
URL:https://www.lumbertontwp.com/event/township-committee-meeting-2/
LOCATION:Municipal Building\, 35 Municipal Drive\, Lumberton\, NJ\, 08048\, United States
CATEGORIES:Township Meetings
END:VEVENT
BEGIN:VEVENT
DTSTART;TZID=America/New_York:20250403T190000
DTEND;TZID=America/New_York:20250403T200000
DTSTAMP:20260425T064606
CREATED:20250325T130113Z
LAST-MODIFIED:20250325T130121Z
UID:11761-1743706800-1743710400@www.lumbertontwp.com
SUMMARY:Township Committee Meeting
DESCRIPTION:Public Meeting in the Municipal Court Room at 7 PM.
URL:https://www.lumbertontwp.com/event/township-committee-meeting/
LOCATION:Municipal Building\, 35 Municipal Drive\, Lumberton\, NJ\, 08048\, United States
CATEGORIES:Township Meetings
END:VEVENT
END:VCALENDAR