BEGIN:VCALENDAR
VERSION:2.0
PRODID:-//Lumberton Township - ECPv6.15.18//NONSGML v1.0//EN
CALSCALE:GREGORIAN
METHOD:PUBLISH
X-ORIGINAL-URL:https://www.lumbertontwp.com
X-WR-CALDESC:Events for Lumberton Township
REFRESH-INTERVAL;VALUE=DURATION:PT1H
X-Robots-Tag:noindex
X-PUBLISHED-TTL:PT1H
BEGIN:VTIMEZONE
TZID:America/New_York
BEGIN:DAYLIGHT
TZOFFSETFROM:-0500
TZOFFSETTO:-0400
TZNAME:EDT
DTSTART:20240310T070000
END:DAYLIGHT
BEGIN:STANDARD
TZOFFSETFROM:-0400
TZOFFSETTO:-0500
TZNAME:EST
DTSTART:20241103T060000
END:STANDARD
BEGIN:DAYLIGHT
TZOFFSETFROM:-0500
TZOFFSETTO:-0400
TZNAME:EDT
DTSTART:20250309T070000
END:DAYLIGHT
BEGIN:STANDARD
TZOFFSETFROM:-0400
TZOFFSETTO:-0500
TZNAME:EST
DTSTART:20251102T060000
END:STANDARD
BEGIN:DAYLIGHT
TZOFFSETFROM:-0500
TZOFFSETTO:-0400
TZNAME:EDT
DTSTART:20260308T070000
END:DAYLIGHT
BEGIN:STANDARD
TZOFFSETFROM:-0400
TZOFFSETTO:-0500
TZNAME:EST
DTSTART:20261101T060000
END:STANDARD
END:VTIMEZONE
BEGIN:VEVENT
DTSTART;TZID=America/New_York:20251017T170000
DTEND;TZID=America/New_York:20251017T200000
DTSTAMP:20260425T124726
CREATED:20250402T180207Z
LAST-MODIFIED:20251007T152230Z
UID:11877-1760720400-1760731200@www.lumbertontwp.com
SUMMARY:Trunk or Treat and Halloween Spooktacular!
DESCRIPTION:A staff favorite returns this year on October 17th. The Halloween Spooktacular will feature:  \nTrunk or Treat from 5 PM – 7 PM at the Municipal Building \nFood Trucks on site from 5 PM – 8 PM: \nRed’s Rolling\, Mary’s Food Diner\, Moocheez\, Jeremiah’s\, Dominic’s\, Kona Coffee and Ice Cream Emergency \nNew this year: Kids’ Activity Area – Free Pumpkin Decorating\, Interactive Halloween Themed DJ\, Balloon Artist\, Fall themed inflatable game with prizes\, free treats and MORE SURPRISES!  Kids area will be open from 5-8 PM.  (Pumpkins and donuts will be provided while supplies last). \n  \n \n  \nThank you to our wonderful sponsors!  \nTrimble Law. LLC \nInsurance Solutions Inc. \nWSFS \nFlorio\, Perrucci\, Steinhardt\, Cappelli\, Tipton LLC \nParker McCay PA \nRosenberg Perry & Associates \nEnvironmental Resolutions Inc. \nLFB Land Planning \nMercadien Consulting\, LLC \nThe Garty Law Firm\, LLC \n  \n\n        \n            Attachments\n        HALLOWEEN FLYER FOR PUBLIC FINAL 2025 (3 MB)
URL:https://www.lumbertontwp.com/event/trunk-or-treat-and-halloween-spooktacular/
LOCATION:Municipal Building\, 35 Municipal Drive\, Lumberton\, NJ\, 08048\, United States
ATTACH;FMTTYPE=image/jpeg:https://www.lumbertontwp.com/wp-content/uploads/2025/04/Trunk-or-Treat-JPG-1-1.jpg
END:VEVENT
END:VCALENDAR